BEGIN:VCALENDAR
VERSION:2.0
PRODID:-//Eventin//Event Calendar//EN
CALSCALE:GREGORIAN
METHOD:PUBLISH
BEGIN:VEVENT
UID:8cd14ad4f5a2a5aea8e2490e9e3b2392@trudlmaskdset.com
SUMMARY:MEMORIAL DAY WEEKEND
DESCRIPTION:ENTRY: 20$ before 2 am 25$ after.\n \nACCEPTED PAYMENT :\nZELL
 E | VENMO | TAP2PAY
LOCATION:VERIFY TO UNLOCK
DTSTAMP:20260424T144838Z
DTSTART:20260523T033000Z
DTEND:20260524T110000Z
END:VEVENT
END:VCALENDAR
