BEGIN:VCALENDAR
VERSION:2.0
PRODID:-//Eventin//Event Calendar//EN
CALSCALE:GREGORIAN
METHOD:PUBLISH
BEGIN:VEVENT
UID:0889e16333cdb501b68c6474cef5e1ad@trudlmaskdset.com
SUMMARY:DA BACK~DOOR
DESCRIPTION:ENTRY: 20$ DONATION\nACCEPTED PAYMENT :\n \nZELLE | VENMO | TA
 P2PAY
LOCATION:VERIFY TO UNLOCK
DTSTAMP:20260424T144838Z
DTSTART:20260508T143000Z
DTEND:20260509T110000Z
END:VEVENT
END:VCALENDAR
