BEGIN:VCALENDAR
VERSION:2.0
PRODID:-//Eventin//Event Calendar//EN
CALSCALE:GREGORIAN
METHOD:PUBLISH
BEGIN:VEVENT
UID:0fb6152cce8360190126d9cfca528a09@trudlmaskdset.com
SUMMARY:DA BACK~DOOR
DESCRIPTION:ENTRY: 20$ DONATION\n \nACCEPTED PAYMENT :\nZELLE | VENMO | TA
 P2PAY
LOCATION:VERIFY TO UNLOCK
DTSTAMP:20260424T144844Z
DTSTART:20260425T033000Z
DTEND:20260425T110000Z
END:VEVENT
END:VCALENDAR
